BEGIN:VCALENDAR
VERSION:2.0
PRODID:-//Rush River Lutheran Church - ECPv6.15.20//NONSGML v1.0//EN
CALSCALE:GREGORIAN
METHOD:PUBLISH
X-WR-CALNAME:Rush River Lutheran Church
X-ORIGINAL-URL:https://rushriverlutheran.org
X-WR-CALDESC:Events for Rush River Lutheran Church
REFRESH-INTERVAL;VALUE=DURATION:PT1H
X-Robots-Tag:noindex
X-PUBLISHED-TTL:PT1H
BEGIN:VTIMEZONE
TZID:America/Chicago
BEGIN:DAYLIGHT
TZOFFSETFROM:-0600
TZOFFSETTO:-0500
TZNAME:CDT
DTSTART:20250309T080000
END:DAYLIGHT
BEGIN:STANDARD
TZOFFSETFROM:-0500
TZOFFSETTO:-0600
TZNAME:CST
DTSTART:20251102T070000
END:STANDARD
BEGIN:DAYLIGHT
TZOFFSETFROM:-0600
TZOFFSETTO:-0500
TZNAME:CDT
DTSTART:20260308T080000
END:DAYLIGHT
BEGIN:STANDARD
TZOFFSETFROM:-0500
TZOFFSETTO:-0600
TZNAME:CST
DTSTART:20261101T070000
END:STANDARD
BEGIN:DAYLIGHT
TZOFFSETFROM:-0600
TZOFFSETTO:-0500
TZNAME:CDT
DTSTART:20270314T080000
END:DAYLIGHT
BEGIN:STANDARD
TZOFFSETFROM:-0500
TZOFFSETTO:-0600
TZNAME:CST
DTSTART:20271107T070000
END:STANDARD
END:VTIMEZONE
BEGIN:VEVENT
DTSTART;TZID=America/Chicago:20260301T091500
DTEND;TZID=America/Chicago:20260301T101500
DTSTAMP:20260423T112130
CREATED:20260108T201245Z
LAST-MODIFIED:20260108T201528Z
UID:7575-1772356500-1772360100@rushriverlutheran.org
SUMMARY:Sunday School
DESCRIPTION:
URL:https://rushriverlutheran.org/event/sunday-school-15/
END:VEVENT
BEGIN:VEVENT
DTSTART;TZID=America/Chicago:20260301T094500
DTEND;TZID=America/Chicago:20260301T101500
DTSTAMP:20260423T112130
CREATED:20260108T202338Z
LAST-MODIFIED:20260108T202338Z
UID:7604-1772358300-1772360100@rushriverlutheran.org
SUMMARY:Coffee and Fellowship
DESCRIPTION:
URL:https://rushriverlutheran.org/event/coffee-and-fellowship-7/
END:VEVENT
BEGIN:VEVENT
DTSTART;TZID=America/Chicago:20260301T103000
DTEND;TZID=America/Chicago:20260301T113000
DTSTAMP:20260423T112130
CREATED:20260108T200827Z
LAST-MODIFIED:20260108T200827Z
UID:7558-1772361000-1772364600@rushriverlutheran.org
SUMMARY:Worship
DESCRIPTION:
URL:https://rushriverlutheran.org/event/worship-13/
END:VEVENT
BEGIN:VEVENT
DTSTART;TZID=America/Chicago:20260303T100000
DTEND;TZID=America/Chicago:20260303T110000
DTSTAMP:20260423T112130
CREATED:20260216T130420Z
LAST-MODIFIED:20260216T130420Z
UID:7683-1772532000-1772535600@rushriverlutheran.org
SUMMARY:Bible Study
DESCRIPTION:
URL:https://rushriverlutheran.org/event/bible-study-6/
END:VEVENT
BEGIN:VEVENT
DTSTART;TZID=America/Chicago:20260304T163000
DTEND;TZID=America/Chicago:20260304T173000
DTSTAMP:20260423T112130
CREATED:20260216T131741Z
LAST-MODIFIED:20260216T131741Z
UID:7716-1772641800-1772645400@rushriverlutheran.org
SUMMARY:Bible Study
DESCRIPTION:
URL:https://rushriverlutheran.org/event/bible-study-17/
END:VEVENT
BEGIN:VEVENT
DTSTART;TZID=America/Chicago:20260304T174500
DTEND;TZID=America/Chicago:20260304T183000
DTSTAMP:20260423T112130
CREATED:20260216T131902Z
LAST-MODIFIED:20260216T131902Z
UID:7720-1772646300-1772649000@rushriverlutheran.org
SUMMARY:Soup Supper
DESCRIPTION:
URL:https://rushriverlutheran.org/event/soup-supper-2/
END:VEVENT
BEGIN:VEVENT
DTSTART;TZID=America/Chicago:20260304T183000
DTEND;TZID=America/Chicago:20260304T193000
DTSTAMP:20260423T112130
CREATED:20260216T131405Z
LAST-MODIFIED:20260216T131405Z
UID:7708-1772649000-1772652600@rushriverlutheran.org
SUMMARY:Lenten Service - Holden Evening Prayer
DESCRIPTION:
URL:https://rushriverlutheran.org/event/lenten-service-holden-evening-prayer/
END:VEVENT
BEGIN:VEVENT
DTSTART;TZID=America/Chicago:20260305T090000
DTEND;TZID=America/Chicago:20260305T120000
DTSTAMP:20260423T112130
CREATED:20260108T201918Z
LAST-MODIFIED:20260108T201918Z
UID:7590-1772701200-1772712000@rushriverlutheran.org
SUMMARY:Food\, Fellowship and Quilting
DESCRIPTION:
URL:https://rushriverlutheran.org/event/food-fellowship-and-quilting-3/
END:VEVENT
BEGIN:VEVENT
DTSTART;TZID=America/Chicago:20260308T091500
DTEND;TZID=America/Chicago:20260308T101500
DTSTAMP:20260423T112130
CREATED:20260108T201550Z
LAST-MODIFIED:20260108T201550Z
UID:7580-1772961300-1772964900@rushriverlutheran.org
SUMMARY:Sunday School
DESCRIPTION:
URL:https://rushriverlutheran.org/event/sunday-school-17/
END:VEVENT
BEGIN:VEVENT
DTSTART;TZID=America/Chicago:20260308T094500
DTEND;TZID=America/Chicago:20260308T101500
DTSTAMP:20260423T112130
CREATED:20260108T202430Z
LAST-MODIFIED:20260108T202430Z
UID:7606-1772963100-1772964900@rushriverlutheran.org
SUMMARY:Coffee and Fellowship
DESCRIPTION:
URL:https://rushriverlutheran.org/event/coffee-and-fellowship-8/
END:VEVENT
BEGIN:VEVENT
DTSTART;TZID=America/Chicago:20260308T103000
DTEND;TZID=America/Chicago:20260308T113000
DTSTAMP:20260423T112130
CREATED:20260108T200848Z
LAST-MODIFIED:20260108T200848Z
UID:7560-1772965800-1772969400@rushriverlutheran.org
SUMMARY:Worship
DESCRIPTION:
URL:https://rushriverlutheran.org/event/worship-14/
END:VEVENT
BEGIN:VEVENT
DTSTART;TZID=America/Chicago:20260310T100000
DTEND;TZID=America/Chicago:20260310T110000
DTSTAMP:20260423T112130
CREATED:20260216T130443Z
LAST-MODIFIED:20260216T130443Z
UID:7685-1773136800-1773140400@rushriverlutheran.org
SUMMARY:Bible Study
DESCRIPTION:
URL:https://rushriverlutheran.org/event/bible-study-7/
END:VEVENT
BEGIN:VEVENT
DTSTART;TZID=America/Chicago:20260311T163000
DTEND;TZID=America/Chicago:20260311T173000
DTSTAMP:20260423T112130
CREATED:20260216T130737Z
LAST-MODIFIED:20260216T130737Z
UID:7697-1773246600-1773250200@rushriverlutheran.org
SUMMARY:Bible Study
DESCRIPTION:
URL:https://rushriverlutheran.org/event/bible-study-13/
END:VEVENT
BEGIN:VEVENT
DTSTART;TZID=America/Chicago:20260311T174500
DTEND;TZID=America/Chicago:20260311T183000
DTSTAMP:20260423T112130
CREATED:20260216T131937Z
LAST-MODIFIED:20260216T131937Z
UID:7722-1773251100-1773253800@rushriverlutheran.org
SUMMARY:Soup Supper
DESCRIPTION:
URL:https://rushriverlutheran.org/event/soup-supper-3/
END:VEVENT
BEGIN:VEVENT
DTSTART;TZID=America/Chicago:20260311T183000
DTEND;TZID=America/Chicago:20260311T193000
DTSTAMP:20260423T112130
CREATED:20260216T131557Z
LAST-MODIFIED:20260216T131557Z
UID:7712-1773253800-1773257400@rushriverlutheran.org
SUMMARY:Lenten Service - Holden Evening Prayer
DESCRIPTION:
URL:https://rushriverlutheran.org/event/lenten-service-holden-evening-prayer-3/
END:VEVENT
BEGIN:VEVENT
DTSTART;TZID=America/Chicago:20260315T091500
DTEND;TZID=America/Chicago:20260315T101500
DTSTAMP:20260423T112130
CREATED:20260108T201617Z
LAST-MODIFIED:20260108T201617Z
UID:7582-1773566100-1773569700@rushriverlutheran.org
SUMMARY:Sunday School
DESCRIPTION:
URL:https://rushriverlutheran.org/event/sunday-school-18/
END:VEVENT
BEGIN:VEVENT
DTSTART;TZID=America/Chicago:20260315T094500
DTEND;TZID=America/Chicago:20260315T101500
DTSTAMP:20260423T112130
CREATED:20260108T202459Z
LAST-MODIFIED:20260108T202459Z
UID:7608-1773567900-1773569700@rushriverlutheran.org
SUMMARY:Coffee and Fellowship
DESCRIPTION:
URL:https://rushriverlutheran.org/event/coffee-and-fellowship-9/
END:VEVENT
BEGIN:VEVENT
DTSTART;TZID=America/Chicago:20260315T103000
DTEND;TZID=America/Chicago:20260315T113000
DTSTAMP:20260423T112130
CREATED:20260108T200906Z
LAST-MODIFIED:20260108T200906Z
UID:7562-1773570600-1773574200@rushriverlutheran.org
SUMMARY:Worship
DESCRIPTION:
URL:https://rushriverlutheran.org/event/worship-15/
END:VEVENT
BEGIN:VEVENT
DTSTART;TZID=America/Chicago:20260317T100000
DTEND;TZID=America/Chicago:20260317T110000
DTSTAMP:20260423T112130
CREATED:20260216T130539Z
LAST-MODIFIED:20260216T130539Z
UID:7687-1773741600-1773745200@rushriverlutheran.org
SUMMARY:Bible Study
DESCRIPTION:
URL:https://rushriverlutheran.org/event/bible-study-8/
END:VEVENT
BEGIN:VEVENT
DTSTART;TZID=America/Chicago:20260318T163000
DTEND;TZID=America/Chicago:20260318T173000
DTSTAMP:20260423T112130
CREATED:20260216T130813Z
LAST-MODIFIED:20260216T130813Z
UID:7699-1773851400-1773855000@rushriverlutheran.org
SUMMARY:Bible Study
DESCRIPTION:
URL:https://rushriverlutheran.org/event/bible-study-14/
END:VEVENT
BEGIN:VEVENT
DTSTART;TZID=America/Chicago:20260318T174500
DTEND;TZID=America/Chicago:20260318T183000
DTSTAMP:20260423T112130
CREATED:20260216T132009Z
LAST-MODIFIED:20260216T132009Z
UID:7724-1773855900-1773858600@rushriverlutheran.org
SUMMARY:Soup Supper
DESCRIPTION:
URL:https://rushriverlutheran.org/event/soup-supper-4/
END:VEVENT
BEGIN:VEVENT
DTSTART;TZID=America/Chicago:20260318T183000
DTEND;TZID=America/Chicago:20260318T193000
DTSTAMP:20260423T112130
CREATED:20260216T131454Z
LAST-MODIFIED:20260216T131454Z
UID:7710-1773858600-1773862200@rushriverlutheran.org
SUMMARY:Lenten Service - Holden Evening Prayer
DESCRIPTION:
URL:https://rushriverlutheran.org/event/lenten-service-holden-evening-prayer-2/
END:VEVENT
BEGIN:VEVENT
DTSTART;TZID=America/Chicago:20260319T093000
DTEND;TZID=America/Chicago:20260319T120000
DTSTAMP:20260423T112130
CREATED:20260108T202049Z
LAST-MODIFIED:20260108T202049Z
UID:7594-1773912600-1773921600@rushriverlutheran.org
SUMMARY:Food\, Fellowship and Puzzles (see info for location)
DESCRIPTION:
URL:https://rushriverlutheran.org/event/food-fellowship-and-puzzles-see-info-for-location-2/
END:VEVENT
BEGIN:VEVENT
DTSTART;TZID=America/Chicago:20260322T091500
DTEND;TZID=America/Chicago:20260322T101500
DTSTAMP:20260423T112130
CREATED:20260108T201743Z
LAST-MODIFIED:20260108T201743Z
UID:7584-1774170900-1774174500@rushriverlutheran.org
SUMMARY:Sunday School
DESCRIPTION:
URL:https://rushriverlutheran.org/event/sunday-school-19/
END:VEVENT
BEGIN:VEVENT
DTSTART;TZID=America/Chicago:20260322T094500
DTEND;TZID=America/Chicago:20260322T101500
DTSTAMP:20260423T112130
CREATED:20260108T202520Z
LAST-MODIFIED:20260108T202520Z
UID:7610-1774172700-1774174500@rushriverlutheran.org
SUMMARY:Coffee and Fellowship
DESCRIPTION:
URL:https://rushriverlutheran.org/event/coffee-and-fellowship-10/
END:VEVENT
BEGIN:VEVENT
DTSTART;TZID=America/Chicago:20260322T103000
DTEND;TZID=America/Chicago:20260322T113000
DTSTAMP:20260423T112130
CREATED:20260108T200925Z
LAST-MODIFIED:20260108T200925Z
UID:7564-1774175400-1774179000@rushriverlutheran.org
SUMMARY:Worship
DESCRIPTION:
URL:https://rushriverlutheran.org/event/worship-16/
END:VEVENT
BEGIN:VEVENT
DTSTART;TZID=America/Chicago:20260324T100000
DTEND;TZID=America/Chicago:20260324T110000
DTSTAMP:20260423T112130
CREATED:20260216T130606Z
LAST-MODIFIED:20260216T130606Z
UID:7689-1774346400-1774350000@rushriverlutheran.org
SUMMARY:Bible Study
DESCRIPTION:
URL:https://rushriverlutheran.org/event/bible-study-9/
END:VEVENT
BEGIN:VEVENT
DTSTART;TZID=America/Chicago:20260325T163000
DTEND;TZID=America/Chicago:20260325T173000
DTSTAMP:20260423T112130
CREATED:20260216T130840Z
LAST-MODIFIED:20260216T130840Z
UID:7701-1774456200-1774459800@rushriverlutheran.org
SUMMARY:Bible Study
DESCRIPTION:
URL:https://rushriverlutheran.org/event/bible-study-15/
END:VEVENT
BEGIN:VEVENT
DTSTART;TZID=America/Chicago:20260325T174500
DTEND;TZID=America/Chicago:20260325T183000
DTSTAMP:20260423T112130
CREATED:20260216T132058Z
LAST-MODIFIED:20260216T132058Z
UID:7726-1774460700-1774463400@rushriverlutheran.org
SUMMARY:Soup Supper
DESCRIPTION:
URL:https://rushriverlutheran.org/event/soup-supper-5/
END:VEVENT
BEGIN:VEVENT
DTSTART;TZID=America/Chicago:20260325T183000
DTEND;TZID=America/Chicago:20260325T193000
DTSTAMP:20260423T112130
CREATED:20260216T131622Z
LAST-MODIFIED:20260216T131622Z
UID:7714-1774463400-1774467000@rushriverlutheran.org
SUMMARY:Lenten Service - Holden Evening Prayer
DESCRIPTION:
URL:https://rushriverlutheran.org/event/lenten-service-holden-evening-prayer-4/
END:VEVENT
END:VCALENDAR