BEGIN:VCALENDAR
VERSION:2.0
PRODID:-//Rush River Lutheran Church - ECPv6.15.20//NONSGML v1.0//EN
CALSCALE:GREGORIAN
METHOD:PUBLISH
X-ORIGINAL-URL:https://rushriverlutheran.org
X-WR-CALDESC:Events for Rush River Lutheran Church
REFRESH-INTERVAL;VALUE=DURATION:PT1H
X-Robots-Tag:noindex
X-PUBLISHED-TTL:PT1H
BEGIN:VTIMEZONE
TZID:America/Chicago
BEGIN:DAYLIGHT
TZOFFSETFROM:-0600
TZOFFSETTO:-0500
TZNAME:CDT
DTSTART:20250309T080000
END:DAYLIGHT
BEGIN:STANDARD
TZOFFSETFROM:-0500
TZOFFSETTO:-0600
TZNAME:CST
DTSTART:20251102T070000
END:STANDARD
BEGIN:DAYLIGHT
TZOFFSETFROM:-0600
TZOFFSETTO:-0500
TZNAME:CDT
DTSTART:20260308T080000
END:DAYLIGHT
BEGIN:STANDARD
TZOFFSETFROM:-0500
TZOFFSETTO:-0600
TZNAME:CST
DTSTART:20261101T070000
END:STANDARD
BEGIN:DAYLIGHT
TZOFFSETFROM:-0600
TZOFFSETTO:-0500
TZNAME:CDT
DTSTART:20270314T080000
END:DAYLIGHT
BEGIN:STANDARD
TZOFFSETFROM:-0500
TZOFFSETTO:-0600
TZNAME:CST
DTSTART:20271107T070000
END:STANDARD
END:VTIMEZONE
BEGIN:VEVENT
DTSTART;TZID=America/Chicago:20260201T091500
DTEND;TZID=America/Chicago:20260201T101500
DTSTAMP:20260423T131433
CREATED:20260108T201103Z
LAST-MODIFIED:20260108T201103Z
UID:7569-1769937300-1769940900@rushriverlutheran.org
SUMMARY:Sunday School
DESCRIPTION:
URL:https://rushriverlutheran.org/event/sunday-school-12/
END:VEVENT
BEGIN:VEVENT
DTSTART;TZID=America/Chicago:20260201T094500
DTEND;TZID=America/Chicago:20260201T101500
DTSTAMP:20260423T131433
CREATED:20260108T202205Z
LAST-MODIFIED:20260108T202205Z
UID:7596-1769939100-1769940900@rushriverlutheran.org
SUMMARY:Coffee and Fellowship
DESCRIPTION:
URL:https://rushriverlutheran.org/event/coffee-and-fellowship-3/
END:VEVENT
BEGIN:VEVENT
DTSTART;TZID=America/Chicago:20260201T103000
DTEND;TZID=America/Chicago:20260201T113000
DTSTAMP:20260423T131433
CREATED:20260108T200647Z
LAST-MODIFIED:20260108T200647Z
UID:7550-1769941800-1769945400@rushriverlutheran.org
SUMMARY:Worship
DESCRIPTION:
URL:https://rushriverlutheran.org/event/worship-9/
END:VEVENT
BEGIN:VEVENT
DTSTART;TZID=America/Chicago:20260204T183000
DTEND;TZID=America/Chicago:20260204T193000
DTSTAMP:20260423T131433
CREATED:20260120T145231Z
LAST-MODIFIED:20260120T145231Z
UID:7639-1770229800-1770233400@rushriverlutheran.org
SUMMARY:Confirmation Class
DESCRIPTION:
URL:https://rushriverlutheran.org/event/confirmation-class-3/
END:VEVENT
BEGIN:VEVENT
DTSTART;TZID=America/Chicago:20260205T090000
DTEND;TZID=America/Chicago:20260205T120000
DTSTAMP:20260423T131433
CREATED:20260108T201854Z
LAST-MODIFIED:20260108T201854Z
UID:7588-1770282000-1770292800@rushriverlutheran.org
SUMMARY:Food\, Fellowship and Quilting
DESCRIPTION:
URL:https://rushriverlutheran.org/event/food-fellowship-and-quilting-2/
END:VEVENT
BEGIN:VEVENT
DTSTART;TZID=America/Chicago:20260208T091500
DTEND;TZID=America/Chicago:20260208T101500
DTSTAMP:20260423T131433
CREATED:20260108T201133Z
LAST-MODIFIED:20260108T201133Z
UID:7571-1770542100-1770545700@rushriverlutheran.org
SUMMARY:Sunday School
DESCRIPTION:
URL:https://rushriverlutheran.org/event/sunday-school-13/
END:VEVENT
BEGIN:VEVENT
DTSTART;TZID=America/Chicago:20260208T094500
DTEND;TZID=America/Chicago:20260208T101500
DTSTAMP:20260423T131433
CREATED:20260108T202232Z
LAST-MODIFIED:20260108T202232Z
UID:7598-1770543900-1770545700@rushriverlutheran.org
SUMMARY:Coffee and Fellowship
DESCRIPTION:
URL:https://rushriverlutheran.org/event/coffee-and-fellowship-4/
END:VEVENT
BEGIN:VEVENT
DTSTART;TZID=America/Chicago:20260208T103000
DTEND;TZID=America/Chicago:20260208T113000
DTSTAMP:20260423T131433
CREATED:20260108T200711Z
LAST-MODIFIED:20260108T200711Z
UID:7552-1770546600-1770550200@rushriverlutheran.org
SUMMARY:Worship
DESCRIPTION:
URL:https://rushriverlutheran.org/event/worship-10/
END:VEVENT
BEGIN:VEVENT
DTSTART;TZID=America/Chicago:20260211T183000
DTEND;TZID=America/Chicago:20260211T193000
DTSTAMP:20260423T131433
CREATED:20260120T145252Z
LAST-MODIFIED:20260120T145252Z
UID:7641-1770834600-1770838200@rushriverlutheran.org
SUMMARY:Confirmation Class
DESCRIPTION:
URL:https://rushriverlutheran.org/event/confirmation-class-4/
END:VEVENT
BEGIN:VEVENT
DTSTART;TZID=America/Chicago:20260215T091500
DTEND;TZID=America/Chicago:20260215T101500
DTSTAMP:20260423T131433
CREATED:20260108T201206Z
LAST-MODIFIED:20260108T201206Z
UID:7573-1771146900-1771150500@rushriverlutheran.org
SUMMARY:Sunday School
DESCRIPTION:
URL:https://rushriverlutheran.org/event/sunday-school-14/
END:VEVENT
BEGIN:VEVENT
DTSTART;TZID=America/Chicago:20260215T094500
DTEND;TZID=America/Chicago:20260215T101500
DTSTAMP:20260423T131433
CREATED:20260108T202257Z
LAST-MODIFIED:20260108T202257Z
UID:7600-1771148700-1771150500@rushriverlutheran.org
SUMMARY:Coffee and Fellowship
DESCRIPTION:
URL:https://rushriverlutheran.org/event/coffee-and-fellowship-5/
END:VEVENT
BEGIN:VEVENT
DTSTART;TZID=America/Chicago:20260215T103000
DTEND;TZID=America/Chicago:20260215T113000
DTSTAMP:20260423T131433
CREATED:20260108T200734Z
LAST-MODIFIED:20260108T200734Z
UID:7554-1771151400-1771155000@rushriverlutheran.org
SUMMARY:Worship
DESCRIPTION:
URL:https://rushriverlutheran.org/event/worship-11/
END:VEVENT
BEGIN:VEVENT
DTSTART;TZID=America/Chicago:20260218T183000
DTEND;TZID=America/Chicago:20260218T193000
DTSTAMP:20260423T131433
CREATED:20260216T130243Z
LAST-MODIFIED:20260216T130243Z
UID:7679-1771439400-1771443000@rushriverlutheran.org
SUMMARY:Ash Wednesday Service
DESCRIPTION:
URL:https://rushriverlutheran.org/event/ash-wednesday-service/
END:VEVENT
BEGIN:VEVENT
DTSTART;TZID=America/Chicago:20260219T093000
DTEND;TZID=America/Chicago:20260219T120000
DTSTAMP:20260423T131433
CREATED:20260108T202027Z
LAST-MODIFIED:20260108T202027Z
UID:7592-1771493400-1771502400@rushriverlutheran.org
SUMMARY:Food\, Fellowship and Puzzles (see info for location)
DESCRIPTION:
URL:https://rushriverlutheran.org/event/food-fellowship-and-puzzles-see-info-for-location/
END:VEVENT
BEGIN:VEVENT
DTSTART;TZID=America/Chicago:20260222T091500
DTEND;TZID=America/Chicago:20260222T101500
DTSTAMP:20260423T131433
CREATED:20260108T201313Z
LAST-MODIFIED:20260108T201313Z
UID:7577-1771751700-1771755300@rushriverlutheran.org
SUMMARY:Sunday School
DESCRIPTION:
URL:https://rushriverlutheran.org/event/sunday-school-16/
END:VEVENT
BEGIN:VEVENT
DTSTART;TZID=America/Chicago:20260222T094500
DTEND;TZID=America/Chicago:20260222T101500
DTSTAMP:20260423T131433
CREATED:20260108T202317Z
LAST-MODIFIED:20260108T202317Z
UID:7602-1771753500-1771755300@rushriverlutheran.org
SUMMARY:Coffee and Fellowship
DESCRIPTION:
URL:https://rushriverlutheran.org/event/coffee-and-fellowship-6/
END:VEVENT
BEGIN:VEVENT
DTSTART;TZID=America/Chicago:20260222T103000
DTEND;TZID=America/Chicago:20260222T113000
DTSTAMP:20260423T131433
CREATED:20260108T200757Z
LAST-MODIFIED:20260108T200757Z
UID:7556-1771756200-1771759800@rushriverlutheran.org
SUMMARY:Worship
DESCRIPTION:
URL:https://rushriverlutheran.org/event/worship-12/
END:VEVENT
BEGIN:VEVENT
DTSTART;TZID=America/Chicago:20260224T100000
DTEND;TZID=America/Chicago:20260224T110000
DTSTAMP:20260423T131433
CREATED:20260216T130338Z
LAST-MODIFIED:20260216T130338Z
UID:7681-1771927200-1771930800@rushriverlutheran.org
SUMMARY:Bible Study
DESCRIPTION:
URL:https://rushriverlutheran.org/event/bible-study-5/
END:VEVENT
BEGIN:VEVENT
DTSTART;TZID=America/Chicago:20260225T163000
DTEND;TZID=America/Chicago:20260225T173000
DTSTAMP:20260423T131433
CREATED:20260216T130650Z
LAST-MODIFIED:20260216T130650Z
UID:7693-1772037000-1772040600@rushriverlutheran.org
SUMMARY:Bible Study
DESCRIPTION:
URL:https://rushriverlutheran.org/event/bible-study-11/
END:VEVENT
BEGIN:VEVENT
DTSTART;TZID=America/Chicago:20260225T174500
DTEND;TZID=America/Chicago:20260225T183000
DTSTAMP:20260423T131433
CREATED:20260216T131834Z
LAST-MODIFIED:20260216T131834Z
UID:7718-1772041500-1772044200@rushriverlutheran.org
SUMMARY:Soup Supper
DESCRIPTION:
URL:https://rushriverlutheran.org/event/soup-supper/
END:VEVENT
BEGIN:VEVENT
DTSTART;TZID=America/Chicago:20260225T183000
DTEND;TZID=America/Chicago:20260225T193000
DTSTAMP:20260423T131433
CREATED:20260216T131225Z
LAST-MODIFIED:20260216T131310Z
UID:7705-1772044200-1772047800@rushriverlutheran.org
SUMMARY:Lenten Service - Holden Evening Prayer
DESCRIPTION:
URL:https://rushriverlutheran.org/event/bible-study-12/
END:VEVENT
END:VCALENDAR